BEGIN:VCALENDAR
VERSION:2.0
PRODID:-//Quayside Kitchen - ECPv6.15.11//NONSGML v1.0//EN
CALSCALE:GREGORIAN
METHOD:PUBLISH
X-ORIGINAL-URL:https://quaysidekitchen.com
X-WR-CALDESC:Events for Quayside Kitchen
REFRESH-INTERVAL;VALUE=DURATION:PT1H
X-Robots-Tag:noindex
X-PUBLISHED-TTL:PT1H
BEGIN:VTIMEZONE
TZID:America/Los_Angeles
BEGIN:DAYLIGHT
TZOFFSETFROM:-0800
TZOFFSETTO:-0700
TZNAME:PDT
DTSTART:20250309T100000
END:DAYLIGHT
BEGIN:STANDARD
TZOFFSETFROM:-0700
TZOFFSETTO:-0800
TZNAME:PST
DTSTART:20251102T090000
END:STANDARD
BEGIN:DAYLIGHT
TZOFFSETFROM:-0800
TZOFFSETTO:-0700
TZNAME:PDT
DTSTART:20260308T100000
END:DAYLIGHT
BEGIN:STANDARD
TZOFFSETFROM:-0700
TZOFFSETTO:-0800
TZNAME:PST
DTSTART:20261101T090000
END:STANDARD
BEGIN:DAYLIGHT
TZOFFSETFROM:-0800
TZOFFSETTO:-0700
TZNAME:PDT
DTSTART:20270314T100000
END:DAYLIGHT
BEGIN:STANDARD
TZOFFSETFROM:-0700
TZOFFSETTO:-0800
TZNAME:PST
DTSTART:20271107T090000
END:STANDARD
END:VTIMEZONE
BEGIN:VEVENT
DTSTART;VALUE=DATE:20260302
DTEND;VALUE=DATE:20260303
DTSTAMP:20260419T070701
CREATED:20260219T204408Z
LAST-MODIFIED:20260219T204408Z
UID:29345-1772409600-1772495999@quaysidekitchen.com
SUMMARY:Pork loin with wine & herb gravy served with roasted potatoes & carrots ($25)
DESCRIPTION:Pork loin with wine and herb gravy served with roasted potatoes and carrots ($25) \nView Detail
URL:https://quaysidekitchen.com/event/pork-loin-with-wine-herb-gravy-served-with-roasted-potatoes-carrots-25/
CATEGORIES:Food Menu
ATTACH;FMTTYPE=image/png:https://quaysidekitchen.com/wp-content/uploads/2026/02/Pork-Loin.png
END:VEVENT
BEGIN:VEVENT
DTSTART;VALUE=DATE:20260304
DTEND;VALUE=DATE:20260305
DTSTAMP:20260419T070701
CREATED:20260219T204839Z
LAST-MODIFIED:20260219T204839Z
UID:29348-1772582400-1772668799@quaysidekitchen.com
SUMMARY:Chicken mushroom orzo casserole with side salad ($25)
DESCRIPTION:Chicken mushroom orzo casserole with side salad ($25) \nView Detail
URL:https://quaysidekitchen.com/event/chicken-mushroom-orzo-casserole-with-side-salad-25/
CATEGORIES:Food Menu
ATTACH;FMTTYPE=image/png:https://quaysidekitchen.com/wp-content/uploads/2026/02/Chicken-Mushroom-Orzo.png
END:VEVENT
BEGIN:VEVENT
DTSTART;VALUE=DATE:20260309
DTEND;VALUE=DATE:20260310
DTSTAMP:20260419T070701
CREATED:20260219T194228Z
LAST-MODIFIED:20260219T194320Z
UID:29334-1773014400-1773100799@quaysidekitchen.com
SUMMARY:Roast chicken thighs served on mashed potatoes ($25)
DESCRIPTION:Roast chicken thighs served on mashed potatoes ($25) \nView Detail
URL:https://quaysidekitchen.com/event/roast-chicken-thighs-served-on-mashed-potatoes-25/
CATEGORIES:Food Menu
ATTACH;FMTTYPE=image/png:https://quaysidekitchen.com/wp-content/uploads/2026/02/Roasted-Chicken-Thighs-Mashed-Potatoes.png
END:VEVENT
BEGIN:VEVENT
DTSTART;VALUE=DATE:20260311
DTEND;VALUE=DATE:20260312
DTSTAMP:20260419T070701
CREATED:20260219T194752Z
LAST-MODIFIED:20260219T195309Z
UID:29337-1773187200-1773273599@quaysidekitchen.com
SUMMARY:Mexican stuffed peppers on rice (25)
DESCRIPTION:Mexican stuffed peppers on rice (25) \nView Detail
URL:https://quaysidekitchen.com/event/mexican-stuffed-peppers-on-rice-25/
CATEGORIES:Food Menu
ATTACH;FMTTYPE=image/jpeg:https://quaysidekitchen.com/wp-content/uploads/2026/01/Stuffed-peppers.jpg
END:VEVENT
BEGIN:VEVENT
DTSTART;VALUE=DATE:20260313
DTEND;VALUE=DATE:20260314
DTSTAMP:20260419T070701
CREATED:20260219T195942Z
LAST-MODIFIED:20260219T195942Z
UID:29342-1773360000-1773446399@quaysidekitchen.com
SUMMARY:Seafood pasta with a side of salad ($30)
DESCRIPTION:Seafood pasta with a side of salad ($30) \nView Detail
URL:https://quaysidekitchen.com/event/seafood-pasta-with-a-side-of-salad-30/
CATEGORIES:Food Menu
ATTACH;FMTTYPE=image/png:https://quaysidekitchen.com/wp-content/uploads/2026/02/Seafood-Pasta.png
END:VEVENT
BEGIN:VEVENT
DTSTART;VALUE=DATE:20260316
DTEND;VALUE=DATE:20260317
DTSTAMP:20260419T070701
CREATED:20260219T191902Z
LAST-MODIFIED:20260219T191902Z
UID:29327-1773619200-1773705599@quaysidekitchen.com
SUMMARY:Shepherd's pie (turkey) with gravy and side vegetables ($25)
DESCRIPTION:Shepherd’s pie (turkey) with gravy and side vegetables ($25) \nView Detail
URL:https://quaysidekitchen.com/event/shepherds-pie-turkey-with-gravy-and-side-vegetables-25/
CATEGORIES:Food Menu
ATTACH;FMTTYPE=image/jpeg:https://quaysidekitchen.com/wp-content/uploads/2026/01/Shepherds-Pie.jpg
END:VEVENT
BEGIN:VEVENT
DTSTART;VALUE=DATE:20260318
DTEND;VALUE=DATE:20260319
DTSTAMP:20260419T070701
CREATED:20260219T193238Z
LAST-MODIFIED:20260219T193238Z
UID:29329-1773792000-1773878399@quaysidekitchen.com
SUMMARY:West Indian chicken curry on rice ($25)
DESCRIPTION:West Indian chicken curry on rice ($25) \nView Detail
URL:https://quaysidekitchen.com/event/west-indian-chicken-curry-on-rice-25/
CATEGORIES:Food Menu
ATTACH;FMTTYPE=image/png:https://quaysidekitchen.com/wp-content/uploads/2026/02/WI-Curry-Chicken-on-rice.png
END:VEVENT
BEGIN:VEVENT
DTSTART;VALUE=DATE:20260320
DTEND;VALUE=DATE:20260321
DTSTAMP:20260419T070701
CREATED:20260219T193653Z
LAST-MODIFIED:20260219T193653Z
UID:29332-1773964800-1774051199@quaysidekitchen.com
SUMMARY:Spaghetti and meatballs ($25)
DESCRIPTION:Spaghetti and meatballs ($25) \nView Detail
URL:https://quaysidekitchen.com/event/spaghetti-and-meatballs-25/
CATEGORIES:Food Menu
ATTACH;FMTTYPE=image/jpeg:https://quaysidekitchen.com/wp-content/uploads/2026/01/Spaghetti-Meatballs.jpg
END:VEVENT
END:VCALENDAR