BEGIN:VCALENDAR
VERSION:2.0
PRODID:-//Quayside Kitchen - ECPv6.15.11//NONSGML v1.0//EN
CALSCALE:GREGORIAN
METHOD:PUBLISH
X-ORIGINAL-URL:https://quaysidekitchen.com
X-WR-CALDESC:Events for Quayside Kitchen
REFRESH-INTERVAL;VALUE=DURATION:PT1H
X-Robots-Tag:noindex
X-PUBLISHED-TTL:PT1H
BEGIN:VTIMEZONE
TZID:America/Los_Angeles
BEGIN:DAYLIGHT
TZOFFSETFROM:-0800
TZOFFSETTO:-0700
TZNAME:PDT
DTSTART:20250309T100000
END:DAYLIGHT
BEGIN:STANDARD
TZOFFSETFROM:-0700
TZOFFSETTO:-0800
TZNAME:PST
DTSTART:20251102T090000
END:STANDARD
BEGIN:DAYLIGHT
TZOFFSETFROM:-0800
TZOFFSETTO:-0700
TZNAME:PDT
DTSTART:20260308T100000
END:DAYLIGHT
BEGIN:STANDARD
TZOFFSETFROM:-0700
TZOFFSETTO:-0800
TZNAME:PST
DTSTART:20261101T090000
END:STANDARD
BEGIN:DAYLIGHT
TZOFFSETFROM:-0800
TZOFFSETTO:-0700
TZNAME:PDT
DTSTART:20270314T100000
END:DAYLIGHT
BEGIN:STANDARD
TZOFFSETFROM:-0700
TZOFFSETTO:-0800
TZNAME:PST
DTSTART:20271107T090000
END:STANDARD
END:VTIMEZONE
BEGIN:VTIMEZONE
TZID:America/El_Salvador
BEGIN:STANDARD
TZOFFSETFROM:-0600
TZOFFSETTO:-0600
TZNAME:CST
DTSTART:20250101T000000
END:STANDARD
END:VTIMEZONE
BEGIN:VEVENT
DTSTART;VALUE=DATE:20260204
DTEND;VALUE=DATE:20260205
DTSTAMP:20260419T083550
CREATED:20260121T205519Z
LAST-MODIFIED:20260121T221855Z
UID:29291-1770163200-1770249599@quaysidekitchen.com
SUMMARY:Italian sausages & home-baked fries (wedges) & side salad ($25)
DESCRIPTION:Italian sausages & home-baked fries (wedges) & side salad ($25) \nView Detail
URL:https://quaysidekitchen.com/event/italian-sausages-home-baked-fries-wedges-side-salad-25/
CATEGORIES:Food Menu
ATTACH;FMTTYPE=image/png:https://quaysidekitchen.com/wp-content/uploads/2026/01/Sausage-fries.png
END:VEVENT
BEGIN:VEVENT
DTSTART;VALUE=DATE:20260209
DTEND;VALUE=DATE:20260210
DTSTAMP:20260419T083550
CREATED:20250930T230014Z
LAST-MODIFIED:20260121T222745Z
UID:29052-1770595200-1770681599@quaysidekitchen.com
SUMMARY:Salmon with a mango salsa served on rice with a side of vegetables ($25)
DESCRIPTION:Salmon with a mango salsa served on rice with a side of vegetables ($25) \nView Detail
URL:https://quaysidekitchen.com/event/salmon-with-a-mango-salsa-served-on-rice-with-a-side-of-vegetables-25/
CATEGORIES:Food Menu
ATTACH;FMTTYPE=image/webp:https://quaysidekitchen.com/wp-content/uploads/2025/09/Meat_VS_Brocco.2e16d0ba.fill-1366x768.format-webp.mwtmk_fAazkkr.webp
END:VEVENT
BEGIN:VEVENT
DTSTART;VALUE=DATE:20260213
DTEND;VALUE=DATE:20260214
DTSTAMP:20260419T083550
CREATED:20260121T224508Z
LAST-MODIFIED:20260203T035758Z
UID:29302-1770940800-1771027199@quaysidekitchen.com
SUMMARY:Heart-shaped ravioli\, tomato sauce & caprese salad ($35)
DESCRIPTION:Heart shaped homemade ravioli (spinach & ricotta cheese) in a tomato sauce & caprese salad ($35) \nView Detail
URL:https://quaysidekitchen.com/event/heart-shaped-ravioli-tomato-sauce-caprese-salad/
CATEGORIES:Food Menu
ATTACH;FMTTYPE=image/jpeg:https://quaysidekitchen.com/wp-content/uploads/2026/01/Heart-shaped-pasta-caprese-salad.jpg
END:VEVENT
BEGIN:VEVENT
DTSTART;VALUE=DATE:20260218
DTEND;VALUE=DATE:20260219
DTSTAMP:20260419T083550
CREATED:20260121T231830Z
LAST-MODIFIED:20260203T040041Z
UID:29308-1771372800-1771459199@quaysidekitchen.com
SUMMARY:Baked chicken breasts on fancy rice & vegetables ($25)
DESCRIPTION:Baked chicken breasts served on fancy rice\, and side of vegetables ($25) \nView Detail
URL:https://quaysidekitchen.com/event/baked-chicken-breasts-on-fancy-rice-vegetables/
CATEGORIES:Food Menu
ATTACH;FMTTYPE=image/png:https://quaysidekitchen.com/wp-content/uploads/2026/01/Bakedd-Chicken-Breast.png
END:VEVENT
BEGIN:VEVENT
DTSTART;VALUE=DATE:20260220
DTEND;VALUE=DATE:20260221
DTSTAMP:20260419T083550
CREATED:20250930T225553Z
LAST-MODIFIED:20260122T032706Z
UID:29049-1771545600-1771631999@quaysidekitchen.com
SUMMARY:Meat Lasagna with Cesar Salad & Bread $25
DESCRIPTION:Meat lasagna + Caesar salad + garlic bread \nView Detail
URL:https://quaysidekitchen.com/event/meat-lasagna/
CATEGORIES:Food Menu
ATTACH;FMTTYPE=image/png:https://quaysidekitchen.com/wp-content/uploads/2025/09/Lasagna-with-sides.png
END:VEVENT
END:VCALENDAR