BEGIN:VCALENDAR
VERSION:2.0
PRODID:-//Quayside Kitchen - ECPv6.15.11//NONSGML v1.0//EN
CALSCALE:GREGORIAN
METHOD:PUBLISH
X-WR-CALNAME:Quayside Kitchen
X-ORIGINAL-URL:https://quaysidekitchen.com
X-WR-CALDESC:Events for Quayside Kitchen
REFRESH-INTERVAL;VALUE=DURATION:PT1H
X-Robots-Tag:noindex
X-PUBLISHED-TTL:PT1H
BEGIN:VTIMEZONE
TZID:America/Los_Angeles
BEGIN:DAYLIGHT
TZOFFSETFROM:-0800
TZOFFSETTO:-0700
TZNAME:PDT
DTSTART:20250309T100000
END:DAYLIGHT
BEGIN:STANDARD
TZOFFSETFROM:-0700
TZOFFSETTO:-0800
TZNAME:PST
DTSTART:20251102T090000
END:STANDARD
BEGIN:DAYLIGHT
TZOFFSETFROM:-0800
TZOFFSETTO:-0700
TZNAME:PDT
DTSTART:20260308T100000
END:DAYLIGHT
BEGIN:STANDARD
TZOFFSETFROM:-0700
TZOFFSETTO:-0800
TZNAME:PST
DTSTART:20261101T090000
END:STANDARD
BEGIN:DAYLIGHT
TZOFFSETFROM:-0800
TZOFFSETTO:-0700
TZNAME:PDT
DTSTART:20270314T100000
END:DAYLIGHT
BEGIN:STANDARD
TZOFFSETFROM:-0700
TZOFFSETTO:-0800
TZNAME:PST
DTSTART:20271107T090000
END:STANDARD
END:VTIMEZONE
BEGIN:VTIMEZONE
TZID:America/El_Salvador
BEGIN:STANDARD
TZOFFSETFROM:-0600
TZOFFSETTO:-0600
TZNAME:CST
DTSTART:20250101T000000
END:STANDARD
END:VTIMEZONE
BEGIN:VEVENT
DTSTART;VALUE=DATE:20260119
DTEND;VALUE=DATE:20260120
DTSTAMP:20260419T101619
CREATED:20260105T001857Z
LAST-MODIFIED:20260106T020333Z
UID:29196-1768780800-1768867199@quaysidekitchen.com
SUMMARY:Chicken Curry & Basmati Rice $25
DESCRIPTION:Chicken Curry with potatoes\, beans and served with basmati rice \nView Detail
URL:https://quaysidekitchen.com/event/chicken-curry-rice/
CATEGORIES:Food Menu
ATTACH;FMTTYPE=image/jpeg:https://quaysidekitchen.com/wp-content/uploads/2026/01/Chicken-Curry-Rice.jpg
END:VEVENT
BEGIN:VEVENT
DTSTART;VALUE=DATE:20260121
DTEND;VALUE=DATE:20260122
DTSTAMP:20260419T101619
CREATED:20250930T231152Z
LAST-MODIFIED:20260106T020351Z
UID:29067-1768953600-1769039999@quaysidekitchen.com
SUMMARY:Meat Chili & Bread $20
DESCRIPTION:Meat chili\, made with ground beef and served with bread. \nView Detail
URL:https://quaysidekitchen.com/event/meat-chili-bread/
CATEGORIES:Food Menu
ATTACH;FMTTYPE=image/jpeg:https://quaysidekitchen.com/wp-content/uploads/2025/09/maxresdefault.jpg
END:VEVENT
BEGIN:VEVENT
DTSTART;VALUE=DATE:20260123
DTEND;VALUE=DATE:20260124
DTSTAMP:20260419T101619
CREATED:20260105T003204Z
LAST-MODIFIED:20260121T201221Z
UID:29200-1769126400-1769212799@quaysidekitchen.com
SUMMARY:Baked Pasta & Salad $25
DESCRIPTION:Baked Pasta with Italian sausage\, peppers & mushrooms\, served with a side Cesar salad \nView Detail
URL:https://quaysidekitchen.com/event/baked-pasta/
CATEGORIES:Food Menu
ATTACH;FMTTYPE=image/jpeg:https://quaysidekitchen.com/wp-content/uploads/2026/01/Baked-Pasta.jpg
END:VEVENT
BEGIN:VEVENT
DTSTART;VALUE=DATE:20260126
DTEND;VALUE=DATE:20260127
DTSTAMP:20260419T101619
CREATED:20260121T223357Z
LAST-MODIFIED:20260124T190751Z
UID:29299-1769385600-1769471999@quaysidekitchen.com
SUMMARY:Chicken Quesadilla\, guacamole & salsa\, corn salad ($25)
DESCRIPTION:Chicken quesadilla with guacamole & salsa\, service a with corn salad ($25) \nView Detail
URL:https://quaysidekitchen.com/event/chicken-quesadilla-guacamole-salsa-corn-salad-25/
ATTACH;FMTTYPE=image/jpeg:https://quaysidekitchen.com/wp-content/uploads/2026/01/Quesadilla-Guacamole.jpg
END:VEVENT
END:VCALENDAR